BEGIN:VCALENDAR
VERSION:2.0
PRODID:-//hacksw/handcal//NONSGML v1.0//EN
BEGIN:VEVENT
SUMMARY:flanerie du mardi
UID:ca51068d-219e-441c-91ef-025039aec597
DTSTART:20260428T120000Z
DTEND:20260428T150000Z
LOCATION:Localisation rue de l'Eglise 76480 Saint Paer
CATEGORIES:Sportif
STATUS:
DESCRIPTION:<p style="text-align:center;"><span
 style="font-size:16px;"><span style="font-family:Arial,
 sans-serif;"><u><strong>Animateurs</strong></u> : Roland LEROY
 (tel : 06 23 42 51 86)</span></span></p>
 
 <p
 style="text-align:center;"><span style="font-size:16px;"><span
 style="font-family:'Times New Roman', serif;"><b><u><span
 style="font-family:Arial,
 sans-serif;">Depart</span></u></b> : <span
 style="font-family:Arial, sans-serif;">a 14H00  du parking de
 l’eglise</span></span></span></p>
 
 <p
 style="text-align:center;"><span style="font-size:16px;"><span
 style="font-family:'Times New Roman', serif;"><b><u><span
 style="font-family:Arial,
 sans-serif;">Distance</span></u></b><b> </b><span
 style="font-family:Arial, sans-serif;">: 9 km ;  R tres facile 
 </span></span></span></p>
 
 <p style="text-align:center;"><span
 style="font-size:16px;"><span style="font-family:'Times New Roman',
 serif;"><b><u><span style="font-family:Arial, sans-serif;">Pour s’y
 rendre</span></u></b><b><span style="font-family:Arial,
 sans-serif;"> :</span></b> </span></span></p>
 
 <p
 style="text-align:center;"><span style="font-size:16px;"><span
 style="font-family:Arial, sans-serif;">Oissel sur Seine, Sud 3,
 Rouen, Pont Flaubert, autoroute A 150, sortie 2 direction Saint Jean
 du Cardonnay, la Vaupaliere.  Au 2<sup>eme</sup> rond point, prendre
 la D43 vers Saint Pierre de Varengeville et Duclair. A Saint Pierre
 de Varengeville, prendre a droite la D86 jusqu’a Saint Paer (35 km,
 40 mn)</span><font face="Times New Roman,
 serif">.</font></span></p>
 
 <p style="text-align:center;"><span
 style="font-size:16px;"><span style="font-family:'Times New Roman',
 serif;"><span style="font-family:Arial, sans-serif;">Depart a 13h00
 du parking de la piscine de Oissel sur
 seine</span></span></span></p>
 
 <p> </p>
 
 <p> </p>
URL;VALUE=URI:https://randooisselclub.sportsregions.fr/evenements/2026/04/28/flanerie-du-mardi-2440999
END:VEVENT
END:VCALENDAR
