BEGIN:VCALENDAR
VERSION:2.0
PRODID:-//hacksw/handcal//NONSGML v1.0//EN
BEGIN:VEVENT
SUMMARY:sortie du dimanche
UID:a93da323-64a1-4274-ad5b-35afa490965c
DTSTART:20260426T120000Z
DTEND:20260426T144500Z
LOCATION:Localisation Mairie 27400 Amfreville sur Iton
CATEGORIES:Sportif
STATUS:
DESCRIPTION:<p style="text-align:center;"><span
 style="font-size:16px;"><span style="font-family:'Times New Roman',
 serif;"><b><u><span style="font-family:Arial,
 sans-serif;">Reconnaissance</span></u><span style="font-family:Arial,
 sans-serif;"> :</span></b><span style="font-family:Arial,
 sans-serif;"> Gilbert T. (tel : 06 13 74 18 85 ) Nelly
 L.V</span></span></span></p>
 
 <p style="text-align:center;"><span
 style="font-size:16px;"><span style="font-family:'Times New Roman',
 serif;"><b><u><span style="font-family:Arial,
 sans-serif;">Difficulte</span></u><span style="font-family:Arial,
 sans-serif;"> :</span></b><span style="font-family:Arial,
 sans-serif;"> RR facile</span></span></span></p>
 
 <p
 style="text-align:center;"><span style="font-size:16px;"><span
 style="font-family:'Times New Roman', serif;"><b><u><span
 style="font-family:Arial, sans-serif;">Lieu</span></u><span
 style="font-family:Arial, sans-serif;"> : </span></b><span
 style="font-family:Arial, sans-serif;">Amfreville sur Iton ( 27400
 )</span></span></span></p>
 
 <p style="text-align:center;"><span
 style="font-size:16px;"><span style="font-family:'Times New Roman',
 serif;"><b><u><span style="font-family:Arial,
 sans-serif;">Distance</span></u><span style="font-family:Arial,
 sans-serif;"> :</span></b><span style="font-family:Arial,
 sans-serif;"> 11 km</span></span></span></p>
 
 <p
 style="text-align:center;"><span style="font-size:16px;"><span
 style="font-family:'Times New Roman', serif;"><b><u><span
 style="font-family:Arial, sans-serif;">Heure de
 depart</span></u><span style="font-family:Arial,
 sans-serif;"> :</span></b><span style="font-family:Arial,
 sans-serif;"> 14h00 du parking face a la
 Mairie</span></span></span></p>
 
 <p style="text-align:center;"><span
 style="font-size:16px;"><span style="font-family:'Times New Roman',
 serif;"><u><span style="font-family:Arial, sans-serif;">Pour s’y
 rendre</span></u><span style="font-family:Arial, sans-serif;"> :
 Oissel sur Seine, Pont de l’Arche, direction Evreux, A154, sortie
 D71, dans Amfreville ,</span></span></span></p>
 
 <p
 style="text-align:center;"><span style="font-size:16px;"><span
 style="font-family:'Times New Roman', serif;"><span
 lang="en-us"><span style="font-family:Arial, sans-serif;">parking
 angle D112 / D61 ( Lat. 49,14707 N / Long. 1,14971 E ) (31 km –
 env. 35mn)</span></span><span lang="en-us"><span
 style="font-family:Arial,
 sans-serif;">.</span></span></span></span></p>
 
 <p
 style="text-align:center;"><span style="font-size:16px;"><span
 style="font-family:'Times New Roman', serif;"><span
 style="font-family:Arial, sans-serif;">Depart a 13h15 du parking de
 la piscine de Oissel sur Seine.</span></span></span></p>
URL;VALUE=URI:https://randooisselclub.sportsregions.fr/evenements/2026/04/26/sortie-du-dimanche-2440964
END:VEVENT
END:VCALENDAR
