BEGIN:VCALENDAR
VERSION:2.0
PRODID:-//hacksw/handcal//NONSGML v1.0//EN
BEGIN:VEVENT
SUMMARY:rando sante
UID:6ab23ffc-c912-46f2-be15-32cbf20b962d
DTSTART:20260424T073000Z
DTEND:20260424T093000Z
LOCATION:Localisation   
CATEGORIES:Sportif
STATUS:
DESCRIPTION:<p style="text-align:center;"><span
 style="font-size:16px;">Depart a 9h30 de la salle des sports Germinal
 de Oissel sur Seine.</span></p>
URL;VALUE=URI:https://randooisselclub.sportsregions.fr/evenements/2026/04/24/rando-sante-2440962
END:VEVENT
END:VCALENDAR
