BEGIN:VCALENDAR
VERSION:2.0
PRODID:-//hacksw/handcal//NONSGML v1.0//EN
BEGIN:VEVENT
SUMMARY:rando sante
UID:35f76587-73bd-4f1b-b82c-32c87eebc5b1
DTSTART:20260417T073000Z
DTEND:20260417T093000Z
LOCATION:Localisation   
CATEGORIES:Sportif
STATUS:
DESCRIPTION:<p style="text-align:center;"><span
 style="font-size:16px;">Depart a 9h30 de la salle des sports Germinal
 de Oissel-sur-Seine pour une randonnee vers le Fond du
 Catelier.</span></p>
URL;VALUE=URI:https://randooisselclub.sportsregions.fr/evenements/2026/04/17/rando-sante-2432159
END:VEVENT
END:VCALENDAR
