BEGIN:VCALENDAR
VERSION:2.0
PRODID:-//hacksw/handcal//NONSGML v1.0//EN
BEGIN:VEVENT
SUMMARY:flanerie du mardi
UID:b50756e4-257f-4777-9705-ca2d13db0678
DTSTART:20260414T120000Z
DTEND:20260414T150000Z
LOCATION:Localisation salle polyvalente 27340 Toste
CATEGORIES:Sportif
STATUS:
DESCRIPTION:<div>
 <p class="Standard"
 style="text-align:center;"><span style="font-size:12pt;"><span
 style="font-family:'Times New Roman', serif;"><span
 style="font-size:11pt;"><span style="font-family:Arial,
 sans-serif;"><u><strong>Depart</strong></u> : 14h00 du parking de la
 salle polyvalente ; 9 km ; R facile           
 </span></span></span></span></p>
 
 <p class="Standard"
 style="text-align:center;"><span style="font-size:12pt;"><span
 style="font-family:'Times New Roman', serif;"><span
 style="font-size:11pt;"><span style="font-family:Arial,
 sans-serif;"><u><strong>Animateur</strong></u> : Yanick (tel 06 29 91
 95 43)</span></span></span></span></p>
 
 <p class="Standard"
 style="text-align:center;"><span style="font-size:12pt;"><span
 style="font-family:'Times New Roman', serif;"><span
 style="font-size:11pt;"><span style="font-family:Arial,
 sans-serif;"><u><strong>Pour s’y rendre</strong></u> : Oissel,
 A13, sortie n° 20,Tostes (Terre de
 Bord)</span></span></span></span></p>
 
 <p class="Standard"
 style="text-align:center;"><span style="font-size:12pt;"><span
 style="font-family:'Times New Roman', serif;"><span
 style="font-size:11pt;"><span style="font-family:Arial,
 sans-serif;">Depart a 13h15 du parking de la piscine de
 Oissel-sur-Seine</span></span></span></span></p>
 </div>
URL;VALUE=URI:https://randooisselclub.sportsregions.fr/evenements/2026/04/14/flanerie-du-mardi-2432140
END:VEVENT
END:VCALENDAR
