BEGIN:VCALENDAR
VERSION:2.0
PRODID:-//hacksw/handcal//NONSGML v1.0//EN
BEGIN:VEVENT
SUMMARY:sortie du mardi
UID:95e44001-3e08-49f2-a141-224e326f67f7
DTSTART:20260407T073000Z
DTEND:20260407T140000Z
LOCATION:Localisation route de Sahurs 76113 Saint Pierre de Manneville
CATEGORIES:Sportif
STATUS:
DESCRIPTION:<p style="text-align:center;"><span
 style="font-size:16px;"><span style="font-family:'Times New Roman',
 serif;"><b><u><span style="font-family:Arial,
 sans-serif;">Reconnaissance</span></u><span style="font-family:Arial,
 sans-serif;"> :</span></b><span style="font-family:Arial,
 sans-serif;"> gilbert T. (tel : 06 13 74 18 85) ; Jacky
 G.</span></span></span></p>
 
 <p style="text-align:center;"><span
 style="font-size:16px;"><span style="font-family:'Times New Roman',
 serif;"><b><u><span style="font-family:Arial,
 sans-serif;">Difficul</span></u><span style="font-family:Arial,
 sans-serif;"><u>te</u> :</span></b><span style="font-family:Arial,
 sans-serif;"> R moyen</span></span></span></p>
 
 <p
 style="text-align:center;"><span style="font-size:16px;"><span
 style="font-family:'Times New Roman', serif;"><b><u><span
 style="font-family:Arial, sans-serif;">Lieu</span></u><span
 style="font-family:Arial, sans-serif;"> :</span></b><span
 style="font-family:Arial, sans-serif;"> Saint Pierre de Manneville (
 76113 )</span></span></span></p>
 
 <p style="text-align:center;"><span
 style="font-size:16px;"><span style="font-family:'Times New Roman',
 serif;"><b><u><span style="font-family:Arial,
 sans-serif;">Distance</span></u><span style="font-family:Arial,
 sans-serif;"> :</span></b> <span style="font-family:Arial,
 sans-serif;">10 km <u>( Allure rando 4 km/h
 )</u></span></span></span></p>
 
 <p style="text-align:center;"><span
 style="font-size:16px;"><span style="font-family:'Times New Roman',
 serif;"><b><u><span style="font-family:Arial, sans-serif;">Heure de
 depart</span></u><span style="font-family:Arial,
 sans-serif;"> :</span></b><span style="font-family:Arial,
 sans-serif;">9h30 du parking situe rte de Sahurs face au groupe
 scolaire Louis Pergault</span></span></span></p>
 
 <p
 style="text-align:center;"><span style="font-size:16px;"><span
 style="font-family:'Times New Roman', serif;"><span
 style="font-family:Arial,
 sans-serif;">                           (
 Lat. 49,39061 N / Long. 0,93101 E )</span></span></span></p>
 
 <p
 style="text-align:center;"><span style="font-size:16px;"><span
 style="font-family:'Times New Roman', serif;"><b><u><span
 style="font-family:Arial, sans-serif;">Pour s’y
 rendre</span></u><span style="font-family:Arial,
 sans-serif;"> :</span></b><span style="font-family:Arial,
 sans-serif;"> Oissel-sur-Seine, bac de La Bouille, a Sahurs, prendre
 deuxieme a gauche D 51 – 21 km ; env 35
 mn).</span></span></span></p>
 
 <p style="text-align:center;"><span
 style="font-size:16px;"><span style="font-family:'Times New Roman',
 serif;"><span style="font-family:Arial, sans-serif;">Depart a 8h45 du
 parking de la piscine de Oissel.</span></span></span></p>
 
 <p
 style="text-align:center;"> </p>
 
 <p
 style="text-align:center;"><span style="font-size:16px;"><span
 style="font-family:'Times New Roman', serif;"><span
 style="font-family:Arial, sans-serif;">Apres le repas,  <u>flanerie
 </u>de 6 km au depart de la ferme</span></span></span></p>
 
 <p
 style="text-align:center;"><span style="font-size:16px;"><span
 style="font-family:'Times New Roman', serif;"><span
 style="font-family:Arial, sans-serif;">Apres la rando, transfert des
 voitures jusqu’a la ferme de Jean et Evelyne BERNARD 78 rue du
 bas</span></span></span></p>
 
 <p style="text-align:center;"><span
 style="font-size:16px;"><span style="font-family:'Times New Roman',
 serif;"><span style="font-family:Arial, sans-serif;">( Lat. 49,38166
 N / Long. 0,92969 E ) Env. 800 ml</span></span></span></p>
 
 <p
 style="text-align:center;"> </p>
 
 <p
 style="text-align:center;"><span style="font-size:16px;">COMPLEMENT
 D’INFOS POUR LA RANDO DU 07 AVRIL<br>
 <br>
 Pour les personnes ne
 randonnant pas le matin<br>
 Stationnement des vehicules – RV a la
 ferme a 12h30<br>
 A la sortie de SAHURS, apres avoir passe le panneau
 de lieu dit «  LE BILLOIS « ,<br>
 le stationnement des vehicules
 se fera sur le terrain d’un grand hangar agricole situe sur
 la<br>
 droite avec panneau «  Produits de la ferme « , l’entree
 de la ferme se situe a 50m<br>
 Pour l’ensemble des
 participants<br>
 Apres le repas, vente de produits fermiers a partir
 de 14h00 / 14h15<br>
 Reglement cheque ou especes<br>
 Prevoir
 glaciere<br>
 Gilbert</span></p>
URL;VALUE=URI:https://randooisselclub.sportsregions.fr/evenements/2026/04/07/sortie-du-mardi-2432080
END:VEVENT
END:VCALENDAR
