BEGIN:VCALENDAR
VERSION:2.0
PRODID:-//hacksw/handcal//NONSGML v1.0//EN
BEGIN:VEVENT
SUMMARY:rando sante
UID:c1a3dcb8-6107-4e4b-8374-10abfb14dbd0
DTSTART:20260403T073000Z
DTEND:20260403T093000Z
LOCATION:Localisation   
CATEGORIES:Sportif
STATUS:
DESCRIPTION:<p style="text-align:center;"><span
 style="font-size:16px;">Depart a 9h30 de la salle des sports Germinal
 de Oissel-sur-Seine pour une randonnee vers la caserne.</span></p>
URL;VALUE=URI:https://randooisselclub.sportsregions.fr/evenements/2026/04/03/rando-sante-2432071
END:VEVENT
END:VCALENDAR
